BEGIN:VCALENDAR
VERSION:2.0
PRODID:-//Bonanno Concepts - ECPv6.15.20//NONSGML v1.0//EN
CALSCALE:GREGORIAN
METHOD:PUBLISH
X-ORIGINAL-URL:https://www.lucadenver.com
X-WR-CALDESC:Events for Bonanno Concepts
REFRESH-INTERVAL;VALUE=DURATION:PT1H
X-Robots-Tag:noindex
X-PUBLISHED-TTL:PT1H
BEGIN:VTIMEZONE
TZID:America/Denver
BEGIN:DAYLIGHT
TZOFFSETFROM:-0700
TZOFFSETTO:-0600
TZNAME:MDT
DTSTART:20230312T090000
END:DAYLIGHT
BEGIN:STANDARD
TZOFFSETFROM:-0600
TZOFFSETTO:-0700
TZNAME:MST
DTSTART:20231105T080000
END:STANDARD
BEGIN:DAYLIGHT
TZOFFSETFROM:-0700
TZOFFSETTO:-0600
TZNAME:MDT
DTSTART:20240310T090000
END:DAYLIGHT
BEGIN:STANDARD
TZOFFSETFROM:-0600
TZOFFSETTO:-0700
TZNAME:MST
DTSTART:20241103T080000
END:STANDARD
BEGIN:DAYLIGHT
TZOFFSETFROM:-0700
TZOFFSETTO:-0600
TZNAME:MDT
DTSTART:20250309T090000
END:DAYLIGHT
BEGIN:STANDARD
TZOFFSETFROM:-0600
TZOFFSETTO:-0700
TZNAME:MST
DTSTART:20251102T080000
END:STANDARD
END:VTIMEZONE
BEGIN:VEVENT
DTSTART;TZID=America/Denver:20240919T173000
DTEND;TZID=America/Denver:20240919T183000
DTSTAMP:20260419T075434
CREATED:20240820T031650Z
LAST-MODIFIED:20240827T220821Z
UID:3654-1726767000-1726770600@www.lucadenver.com
SUMMARY:Bottoms Up! Patio Pilates with The Pilates Studio
DESCRIPTION:Ready to shake off the workday and stretch it out? Join us every Thursday in September for a 50-minute mat pilates class on our patio\, led by The Pilates Studio! All levels are welcome! \nAfter the workout\, you’ll take home a token for a complimentary cocktail or mocktail to enjoy at any Bonanno Concept restaurant on Grant St. (Luca\, Salita\, Vesper Lounge\, or Mizuna). Plus\, we’ve got tons of other awesome giveaways lined up! \nAs a special bonus\, all attendees will be entered into a raffle for a free Pilates class at either the Wash Park or Highlands studios\, with the winner announced after class. \nAll Class Dates: September 5th\, September 12th\, September 19th\, September 26th from 5:30-6:30pm \nPlease note that mats are not provided\, so please bring your own! \nPurchase tickets HERE
URL:https://www.lucadenver.com/event/bottoms-up-patio-pilates-with-the-pilates-studio-3/
LOCATION:Luca\, 711 Grant Street\, Denver\, CO\, 80203\, United States
CATEGORIES:Luca
ATTACH;FMTTYPE=image/png:https://www.lucadenver.com/wp-content/uploads/2024/08/Luca-Patio-Pilates-Thursdays-in-September.png
END:VEVENT
BEGIN:VEVENT
DTSTART;TZID=America/Denver:20240208T170000
DTEND;TZID=America/Denver:20240208T210000
DTSTAMP:20260419T075434
CREATED:20240220T171717Z
LAST-MODIFIED:20240723T201234Z
UID:3047-1707411600-1707426000@www.lucadenver.com
SUMMARY:Pizza Thursday
DESCRIPTION:All of our hand tossed\, wood-fired pies are 2 bucks off from open ‘til close!
URL:https://www.lucadenver.com/event/pizza-thursday-9/
LOCATION:Luca\, 711 Grant Street\, Denver\, CO\, 80203\, United States
CATEGORIES:Luca
ATTACH;FMTTYPE=image/jpeg:https://www.lucadenver.com/wp-content/uploads/2023/07/Elfsight-Calendar-Images-24-.jpg
END:VEVENT
BEGIN:VEVENT
DTSTART;TZID=America/Denver:20240912T173000
DTEND;TZID=America/Denver:20240912T183000
DTSTAMP:20260419T075434
CREATED:20240820T031605Z
LAST-MODIFIED:20240827T220951Z
UID:3653-1726162200-1726165800@www.lucadenver.com
SUMMARY:Bottoms Up! Patio Pilates with The Pilates Studio
DESCRIPTION:Ready to shake off the workday and stretch it out? Join us every Thursday in September for a 50-minute mat pilates class on our patio\, led by The Pilates Studio! All levels are welcome! \nAfter the workout\, you’ll take home a token for a complimentary cocktail or mocktail to enjoy at any Bonanno Concept restaurant on Grant St. (Luca\, Salita\, Vesper Lounge\, or Mizuna). Plus\, we’ve got tons of other awesome giveaways lined up! \nAs a special bonus\, all attendees will be entered into a raffle for a free Pilates class at either the Wash Park or Highlands studios\, with the winner announced after class. \nAll Class Dates: September 5th\, September 12th\, September 19th\, September 26th from 5:30-6:30pm \nPlease note that mats are not provided\, so please bring your own! \nPurchase tickets HERE
URL:https://www.lucadenver.com/event/bottoms-up-patio-pilates-with-the-pilates-studio-2/
LOCATION:Luca\, 711 Grant Street\, Denver\, CO\, 80203\, United States
CATEGORIES:Luca
ATTACH;FMTTYPE=image/png:https://www.lucadenver.com/wp-content/uploads/2024/08/Luca-Patio-Pilates-Thursdays-in-September.png
END:VEVENT
BEGIN:VEVENT
DTSTART;TZID=America/Denver:20240208T170000
DTEND;TZID=America/Denver:20240208T210000
DTSTAMP:20260419T075434
CREATED:20240220T171717Z
LAST-MODIFIED:20240723T201234Z
UID:3047-1707411600-1707426000@www.lucadenver.com
SUMMARY:Pizza Thursday
DESCRIPTION:All of our hand tossed\, wood-fired pies are 2 bucks off from open ‘til close!
URL:https://www.lucadenver.com/event/pizza-thursday-9/
LOCATION:Luca\, 711 Grant Street\, Denver\, CO\, 80203\, United States
CATEGORIES:Luca
ATTACH;FMTTYPE=image/jpeg:https://www.lucadenver.com/wp-content/uploads/2023/07/Elfsight-Calendar-Images-24-.jpg
END:VEVENT
BEGIN:VEVENT
DTSTART;TZID=America/Denver:20240905T173000
DTEND;TZID=America/Denver:20240905T183000
DTSTAMP:20260419T075434
CREATED:20240820T030847Z
LAST-MODIFIED:20240827T220853Z
UID:3650-1725557400-1725561000@www.lucadenver.com
SUMMARY:Bottoms Up! Patio Pilates with The Pilates Studio
DESCRIPTION:Ready to shake off the workday and stretch it out? Join us every Thursday in September for a 50-minute mat pilates class on our patio\, led by The Pilates Studio!  All levels are welcome! \nAfter the workout\, you’ll take home a token for a complimentary cocktail or mocktail to enjoy at any Bonanno Concept restaurant on Grant St. (Luca\, Salita\, Vesper Lounge\, or Mizuna). Plus\, we’ve got tons of other awesome giveaways lined up! \nAs a special bonus\, all attendees will be entered into a raffle for a free Pilates class at either the Wash Park or Highlands studios\, with the winner announced after class. \nAll Class Dates: September 5th\, September 12th\, September 19th\, September 26th from 5:30-6:30pm \nPlease note that mats are not provided\, so please bring your own! \nPurchase tickets HERE
URL:https://www.lucadenver.com/event/bottoms-up-patio-pilates-with-the-pilates-studio/
LOCATION:Luca\, 711 Grant Street\, Denver\, CO\, 80203\, United States
CATEGORIES:Luca
ATTACH;FMTTYPE=image/png:https://www.lucadenver.com/wp-content/uploads/2024/08/Luca-Patio-Pilates-Thursdays-in-September.png
END:VEVENT
BEGIN:VEVENT
DTSTART;TZID=America/Denver:20240208T170000
DTEND;TZID=America/Denver:20240208T210000
DTSTAMP:20260419T075434
CREATED:20240220T171717Z
LAST-MODIFIED:20240723T201234Z
UID:3047-1707411600-1707426000@www.lucadenver.com
SUMMARY:Pizza Thursday
DESCRIPTION:All of our hand tossed\, wood-fired pies are 2 bucks off from open ‘til close!
URL:https://www.lucadenver.com/event/pizza-thursday-9/
LOCATION:Luca\, 711 Grant Street\, Denver\, CO\, 80203\, United States
CATEGORIES:Luca
ATTACH;FMTTYPE=image/jpeg:https://www.lucadenver.com/wp-content/uploads/2023/07/Elfsight-Calendar-Images-24-.jpg
END:VEVENT
BEGIN:VEVENT
DTSTART;TZID=America/Denver:20240208T170000
DTEND;TZID=America/Denver:20240208T210000
DTSTAMP:20260419T075434
CREATED:20240220T171717Z
LAST-MODIFIED:20240723T201234Z
UID:3047-1707411600-1707426000@www.lucadenver.com
SUMMARY:Pizza Thursday
DESCRIPTION:All of our hand tossed\, wood-fired pies are 2 bucks off from open ‘til close!
URL:https://www.lucadenver.com/event/pizza-thursday-9/
LOCATION:Luca\, 711 Grant Street\, Denver\, CO\, 80203\, United States
CATEGORIES:Luca
ATTACH;FMTTYPE=image/jpeg:https://www.lucadenver.com/wp-content/uploads/2023/07/Elfsight-Calendar-Images-24-.jpg
END:VEVENT
BEGIN:VEVENT
DTSTART;TZID=America/Denver:20240822T170000
DTEND;TZID=America/Denver:20240822T210000
DTSTAMP:20260419T075434
CREATED:20240801T050856Z
LAST-MODIFIED:20240801T050856Z
UID:3637-1724346000-1724360400@www.lucadenver.com
SUMMARY:Roman Thai: An Italian/Thai Culinary Playdate
DESCRIPTION:On Thursday\, August 22nd\, the spicy\, tangy flavors of Thailand will be met with what we know best—rich\, authentic Italian. Join us for a 5 course meal featuring:\n– Beef Carpaccio Laab Nua: Spicy Carpaccio Cooled with a Carrot\, Onion & Cucumber Salad\, Finished with Lime Garlic Aioli.– Lemongrass Squid: Wood fired\, with Calabrian Agrodolce– Pad Jee Nai: Northern Thai Sausage\, Onions\, Egg & Broccoli Tossed in House Rolled Tagliatelle– Flame Blistered Shrimp: Swimming in Coconut Brodo with Jimmy Nardello Peppers & Onions & Finished with CilantroThai Tea Panna Cotta: Creamy\, Cold & Delicious\n\nReserve your table HERE!
URL:https://www.lucadenver.com/event/roman-thai-an-italian-thai-culinary-playdate/
LOCATION:CO
CATEGORIES:Luca
ATTACH;FMTTYPE=image/png:https://www.lucadenver.com/wp-content/uploads/2024/07/Calendar-Featured-Image-2.png
END:VEVENT
BEGIN:VEVENT
DTSTART;TZID=America/Denver:20240208T170000
DTEND;TZID=America/Denver:20240208T210000
DTSTAMP:20260419T075434
CREATED:20240220T171717Z
LAST-MODIFIED:20240723T201234Z
UID:3047-1707411600-1707426000@www.lucadenver.com
SUMMARY:Pizza Thursday
DESCRIPTION:All of our hand tossed\, wood-fired pies are 2 bucks off from open ‘til close!
URL:https://www.lucadenver.com/event/pizza-thursday-9/
LOCATION:Luca\, 711 Grant Street\, Denver\, CO\, 80203\, United States
CATEGORIES:Luca
ATTACH;FMTTYPE=image/jpeg:https://www.lucadenver.com/wp-content/uploads/2023/07/Elfsight-Calendar-Images-24-.jpg
END:VEVENT
BEGIN:VEVENT
DTSTART;TZID=America/Denver:20240208T170000
DTEND;TZID=America/Denver:20240208T210000
DTSTAMP:20260419T075434
CREATED:20240220T171717Z
LAST-MODIFIED:20240723T201234Z
UID:3047-1707411600-1707426000@www.lucadenver.com
SUMMARY:Pizza Thursday
DESCRIPTION:All of our hand tossed\, wood-fired pies are 2 bucks off from open ‘til close!
URL:https://www.lucadenver.com/event/pizza-thursday-9/
LOCATION:Luca\, 711 Grant Street\, Denver\, CO\, 80203\, United States
CATEGORIES:Luca
ATTACH;FMTTYPE=image/jpeg:https://www.lucadenver.com/wp-content/uploads/2023/07/Elfsight-Calendar-Images-24-.jpg
END:VEVENT
BEGIN:VEVENT
DTSTART;TZID=America/Denver:20240208T170000
DTEND;TZID=America/Denver:20240208T210000
DTSTAMP:20260419T075434
CREATED:20240220T171717Z
LAST-MODIFIED:20240723T201234Z
UID:3047-1707411600-1707426000@www.lucadenver.com
SUMMARY:Pizza Thursday
DESCRIPTION:All of our hand tossed\, wood-fired pies are 2 bucks off from open ‘til close!
URL:https://www.lucadenver.com/event/pizza-thursday-9/
LOCATION:Luca\, 711 Grant Street\, Denver\, CO\, 80203\, United States
CATEGORIES:Luca
ATTACH;FMTTYPE=image/jpeg:https://www.lucadenver.com/wp-content/uploads/2023/07/Elfsight-Calendar-Images-24-.jpg
END:VEVENT
BEGIN:VEVENT
DTSTART;TZID=America/Denver:20240725T170000
DTEND;TZID=America/Denver:20240725T170000
DTSTAMP:20260419T075434
CREATED:20240629T233115Z
LAST-MODIFIED:20240629T233817Z
UID:3559-1721926800-1721926800@www.lucadenver.com
SUMMARY:Braziliano: An Italian/Brazilian Culinary Playdate
DESCRIPTION:Olá! On July 25th\, we’re flying to the Brazilian coast for a summery beach playdate. Bright & tropical meets comforting classics—you’ve never had anything like it! \n  \nHere’s what’s on the menu:\n• Pao De Quejo – Mozzarella Roll with Fontina\, Ricotta & Passionfruit Jam\n• Coxinha – Potato and Chicken Croquette with San Marzano Pomodoro Sauce\n• Moqueca – Fish and Shrimp Stew\, Coconut Milk\, Tomatoes\, Garlic & Squid Ink Taglierini\n• Espetos – Marinated Pork Loin and Hanger Steak with Salsa Verde & Farro\n• Brigadero – Dulce De Leche & Chocolate Shavings \n  \nMake your reservation HERE!
URL:https://www.lucadenver.com/event/braziliano-an-italian-brazilian-culinary-playdate/
LOCATION:Luca\, 711 Grant Street\, Denver\, CO\, 80203\, United States
CATEGORIES:Luca
ATTACH;FMTTYPE=image/png:https://www.lucadenver.com/wp-content/uploads/2024/06/July-25-Braziliano.png
END:VEVENT
BEGIN:VEVENT
DTSTART;TZID=America/Denver:20240208T170000
DTEND;TZID=America/Denver:20240208T210000
DTSTAMP:20260419T075434
CREATED:20240220T171717Z
LAST-MODIFIED:20240723T201234Z
UID:3047-1707411600-1707426000@www.lucadenver.com
SUMMARY:Pizza Thursday
DESCRIPTION:All of our hand tossed\, wood-fired pies are 2 bucks off from open ‘til close!
URL:https://www.lucadenver.com/event/pizza-thursday-9/
LOCATION:Luca\, 711 Grant Street\, Denver\, CO\, 80203\, United States
CATEGORIES:Luca
ATTACH;FMTTYPE=image/jpeg:https://www.lucadenver.com/wp-content/uploads/2023/07/Elfsight-Calendar-Images-24-.jpg
END:VEVENT
BEGIN:VEVENT
DTSTART;TZID=America/Denver:20240208T170000
DTEND;TZID=America/Denver:20240208T210000
DTSTAMP:20260419T075434
CREATED:20240220T171717Z
LAST-MODIFIED:20240723T201234Z
UID:3047-1707411600-1707426000@www.lucadenver.com
SUMMARY:Pizza Thursday
DESCRIPTION:All of our hand tossed\, wood-fired pies are 2 bucks off from open ‘til close!
URL:https://www.lucadenver.com/event/pizza-thursday-9/
LOCATION:Luca\, 711 Grant Street\, Denver\, CO\, 80203\, United States
CATEGORIES:Luca
ATTACH;FMTTYPE=image/jpeg:https://www.lucadenver.com/wp-content/uploads/2023/07/Elfsight-Calendar-Images-24-.jpg
END:VEVENT
BEGIN:VEVENT
DTSTART;TZID=America/Denver:20240627T170000
DTEND;TZID=America/Denver:20240627T170000
DTSTAMP:20260419T075434
CREATED:20240614T235454Z
LAST-MODIFIED:20240614T235454Z
UID:3535-1719507600-1719507600@www.lucadenver.com
SUMMARY:Shoobie Dinner: An Italian/East Coast Playdate
DESCRIPTION:Shoobie : (shoo-bee) nounA short-term visitor to the beach and shore communities of New Jersey.\n\nWe’re headed to the Jersey Shore for June’s Culinary Playdate! Experience an East Coast summer with some of Frank’s childhood faves. This six course feast will have you smelling the salt air and hearing seagulls right from the Luca dining room. Please note\, this is the only menu available this evening. Wine pairings for the evening are also available!\n\nThe Menu:\nFirst – Fruitti di Mare Salad\nSecond – Fried Surf Clams with Calabrian Chile Aioli\nThird – Pepperoni Focaccia with Mom’s Gravy for Dipping\nFourth – Cavatelli with Shrimp\, Charred Broccoli Rabe & White Wine Garlic & Lemon Sauce\nFifth – Jumbo Lump Crab Cake with Garlic Spinach\nDessert – House-Churned Pistachio Soft Serve Gelato Sundae\n\nMake your reservation HERE!
URL:https://www.lucadenver.com/event/shoobie-dinner/
LOCATION:Luca\, 711 Grant Street\, Denver\, CO\, 80203\, United States
CATEGORIES:Luca
ATTACH;FMTTYPE=image/png:https://www.lucadenver.com/wp-content/uploads/2024/06/June-27th-Shoobie-Luca-Featured.png
END:VEVENT
BEGIN:VEVENT
DTSTART;TZID=America/Denver:20240208T170000
DTEND;TZID=America/Denver:20240208T210000
DTSTAMP:20260419T075434
CREATED:20240220T171717Z
LAST-MODIFIED:20240723T201234Z
UID:3047-1707411600-1707426000@www.lucadenver.com
SUMMARY:Pizza Thursday
DESCRIPTION:All of our hand tossed\, wood-fired pies are 2 bucks off from open ‘til close!
URL:https://www.lucadenver.com/event/pizza-thursday-9/
LOCATION:Luca\, 711 Grant Street\, Denver\, CO\, 80203\, United States
CATEGORIES:Luca
ATTACH;FMTTYPE=image/jpeg:https://www.lucadenver.com/wp-content/uploads/2023/07/Elfsight-Calendar-Images-24-.jpg
END:VEVENT
BEGIN:VEVENT
DTSTART;TZID=America/Denver:20240208T170000
DTEND;TZID=America/Denver:20240208T210000
DTSTAMP:20260419T075434
CREATED:20240220T171717Z
LAST-MODIFIED:20240723T201234Z
UID:3047-1707411600-1707426000@www.lucadenver.com
SUMMARY:Pizza Thursday
DESCRIPTION:All of our hand tossed\, wood-fired pies are 2 bucks off from open ‘til close!
URL:https://www.lucadenver.com/event/pizza-thursday-9/
LOCATION:Luca\, 711 Grant Street\, Denver\, CO\, 80203\, United States
CATEGORIES:Luca
ATTACH;FMTTYPE=image/jpeg:https://www.lucadenver.com/wp-content/uploads/2023/07/Elfsight-Calendar-Images-24-.jpg
END:VEVENT
BEGIN:VEVENT
DTSTART;TZID=America/Denver:20240208T170000
DTEND;TZID=America/Denver:20240208T210000
DTSTAMP:20260419T075434
CREATED:20240220T171717Z
LAST-MODIFIED:20240723T201234Z
UID:3047-1707411600-1707426000@www.lucadenver.com
SUMMARY:Pizza Thursday
DESCRIPTION:All of our hand tossed\, wood-fired pies are 2 bucks off from open ‘til close!
URL:https://www.lucadenver.com/event/pizza-thursday-9/
LOCATION:Luca\, 711 Grant Street\, Denver\, CO\, 80203\, United States
CATEGORIES:Luca
ATTACH;FMTTYPE=image/jpeg:https://www.lucadenver.com/wp-content/uploads/2023/07/Elfsight-Calendar-Images-24-.jpg
END:VEVENT
BEGIN:VEVENT
DTSTART;TZID=America/Denver:20240208T170000
DTEND;TZID=America/Denver:20240208T210000
DTSTAMP:20260419T075434
CREATED:20240220T171717Z
LAST-MODIFIED:20240723T201234Z
UID:3047-1707411600-1707426000@www.lucadenver.com
SUMMARY:Pizza Thursday
DESCRIPTION:All of our hand tossed\, wood-fired pies are 2 bucks off from open ‘til close!
URL:https://www.lucadenver.com/event/pizza-thursday-9/
LOCATION:Luca\, 711 Grant Street\, Denver\, CO\, 80203\, United States
CATEGORIES:Luca
ATTACH;FMTTYPE=image/jpeg:https://www.lucadenver.com/wp-content/uploads/2023/07/Elfsight-Calendar-Images-24-.jpg
END:VEVENT
BEGIN:VEVENT
DTSTART;TZID=America/Denver:20240208T170000
DTEND;TZID=America/Denver:20240208T210000
DTSTAMP:20260419T075434
CREATED:20240220T171717Z
LAST-MODIFIED:20240723T201234Z
UID:3047-1707411600-1707426000@www.lucadenver.com
SUMMARY:Pizza Thursday
DESCRIPTION:All of our hand tossed\, wood-fired pies are 2 bucks off from open ‘til close!
URL:https://www.lucadenver.com/event/pizza-thursday-9/
LOCATION:Luca\, 711 Grant Street\, Denver\, CO\, 80203\, United States
CATEGORIES:Luca
ATTACH;FMTTYPE=image/jpeg:https://www.lucadenver.com/wp-content/uploads/2023/07/Elfsight-Calendar-Images-24-.jpg
END:VEVENT
BEGIN:VEVENT
DTSTART;TZID=America/Denver:20240516T170000
DTEND;TZID=America/Denver:20240516T170000
DTSTAMP:20260419T075434
CREATED:20240426T005354Z
LAST-MODIFIED:20240426T005437Z
UID:3314-1715878800-1715878800@www.lucadenver.com
SUMMARY:A Culinary Playdate: Italianisch
DESCRIPTION:On May 16th\, we’ll be headed North to spend some quality culinary time with our neighbor\, Germany for this month’s culinary playdate. Think mouthwatering Bavarian classics (schnitzel! potatoes!) spiced up with the vibrant Italian flavors (capers! tomatoes!) across 5 hearty courses.\n\nThe Menu– Potato Latke with Housemade Burrata and Apple Mostarda– Panzanella Salad with Spaetzle\, Heirloom Tomatoes\, and Fresh Mozzarella– Pierogies with Brown Butter\, Sage\, and Charred Cippolini Onions– Pork Schnitzel with Grilled Zucchini & Squash\, and Lemon Piccata Sugo– Black Forest Cake with Cherry Compote and Italian Meringue\n\nPlease note: this menu will be the only one available this evening.Make your reservation HERE!
URL:https://www.lucadenver.com/event/a-culinary-playdate-italianisch/
LOCATION:Luca\, 711 Grant Street\, Denver\, CO\, 80203\, United States
CATEGORIES:Luca
ATTACH;FMTTYPE=image/png:https://www.lucadenver.com/wp-content/uploads/2024/04/May-16th-Luca-Playdate-Featured.png
END:VEVENT
BEGIN:VEVENT
DTSTART;TZID=America/Denver:20240208T170000
DTEND;TZID=America/Denver:20240208T210000
DTSTAMP:20260419T075434
CREATED:20240220T171717Z
LAST-MODIFIED:20240723T201234Z
UID:3047-1707411600-1707426000@www.lucadenver.com
SUMMARY:Pizza Thursday
DESCRIPTION:All of our hand tossed\, wood-fired pies are 2 bucks off from open ‘til close!
URL:https://www.lucadenver.com/event/pizza-thursday-9/
LOCATION:Luca\, 711 Grant Street\, Denver\, CO\, 80203\, United States
CATEGORIES:Luca
ATTACH;FMTTYPE=image/jpeg:https://www.lucadenver.com/wp-content/uploads/2023/07/Elfsight-Calendar-Images-24-.jpg
END:VEVENT
BEGIN:VEVENT
DTSTART;TZID=America/Denver:20240208T170000
DTEND;TZID=America/Denver:20240208T210000
DTSTAMP:20260419T075434
CREATED:20240220T171717Z
LAST-MODIFIED:20240723T201234Z
UID:3047-1707411600-1707426000@www.lucadenver.com
SUMMARY:Pizza Thursday
DESCRIPTION:All of our hand tossed\, wood-fired pies are 2 bucks off from open ‘til close!
URL:https://www.lucadenver.com/event/pizza-thursday-9/
LOCATION:Luca\, 711 Grant Street\, Denver\, CO\, 80203\, United States
CATEGORIES:Luca
ATTACH;FMTTYPE=image/jpeg:https://www.lucadenver.com/wp-content/uploads/2023/07/Elfsight-Calendar-Images-24-.jpg
END:VEVENT
BEGIN:VEVENT
DTSTART;TZID=America/Denver:20240208T170000
DTEND;TZID=America/Denver:20240208T210000
DTSTAMP:20260419T075434
CREATED:20240220T171717Z
LAST-MODIFIED:20240723T201234Z
UID:3047-1707411600-1707426000@www.lucadenver.com
SUMMARY:Pizza Thursday
DESCRIPTION:All of our hand tossed\, wood-fired pies are 2 bucks off from open ‘til close!
URL:https://www.lucadenver.com/event/pizza-thursday-9/
LOCATION:Luca\, 711 Grant Street\, Denver\, CO\, 80203\, United States
CATEGORIES:Luca
ATTACH;FMTTYPE=image/jpeg:https://www.lucadenver.com/wp-content/uploads/2023/07/Elfsight-Calendar-Images-24-.jpg
END:VEVENT
BEGIN:VEVENT
DTSTART;TZID=America/Denver:20240418T170000
DTEND;TZID=America/Denver:20240418T170000
DTSTAMP:20260419T075434
CREATED:20240402T172704Z
LAST-MODIFIED:20240402T172704Z
UID:3245-1713459600-1713459600@www.lucadenver.com
SUMMARY:A Culinary Playdate: Cocoliche
DESCRIPTION:On Thursday\, April 18th\, Luca’s rustic Italian cuisine meets the bold flavors of Spain in the third of our Culinary Playdates: Cocoliche. Join us for one night\, five courses and lots of wine to sip alongside this fusion feast! \n  \nView the menu and make your reservation here.
URL:https://www.lucadenver.com/event/a-culinary-playdate-cocoliche/
LOCATION:CO
CATEGORIES:Luca
ATTACH;FMTTYPE=image/png:https://www.lucadenver.com/wp-content/uploads/2024/04/Thursday-4.18-Cocoliche-Luca-Featured.png
END:VEVENT
BEGIN:VEVENT
DTSTART;TZID=America/Denver:20240208T170000
DTEND;TZID=America/Denver:20240208T210000
DTSTAMP:20260419T075434
CREATED:20240220T171717Z
LAST-MODIFIED:20240723T201234Z
UID:3047-1707411600-1707426000@www.lucadenver.com
SUMMARY:Pizza Thursday
DESCRIPTION:All of our hand tossed\, wood-fired pies are 2 bucks off from open ‘til close!
URL:https://www.lucadenver.com/event/pizza-thursday-9/
LOCATION:Luca\, 711 Grant Street\, Denver\, CO\, 80203\, United States
CATEGORIES:Luca
ATTACH;FMTTYPE=image/jpeg:https://www.lucadenver.com/wp-content/uploads/2023/07/Elfsight-Calendar-Images-24-.jpg
END:VEVENT
BEGIN:VEVENT
DTSTART;TZID=America/Denver:20240208T170000
DTEND;TZID=America/Denver:20240208T210000
DTSTAMP:20260419T075434
CREATED:20240220T171717Z
LAST-MODIFIED:20240723T201234Z
UID:3047-1707411600-1707426000@www.lucadenver.com
SUMMARY:Pizza Thursday
DESCRIPTION:All of our hand tossed\, wood-fired pies are 2 bucks off from open ‘til close!
URL:https://www.lucadenver.com/event/pizza-thursday-9/
LOCATION:Luca\, 711 Grant Street\, Denver\, CO\, 80203\, United States
CATEGORIES:Luca
ATTACH;FMTTYPE=image/jpeg:https://www.lucadenver.com/wp-content/uploads/2023/07/Elfsight-Calendar-Images-24-.jpg
END:VEVENT
BEGIN:VEVENT
DTSTART;TZID=America/Denver:20240208T170000
DTEND;TZID=America/Denver:20240208T210000
DTSTAMP:20260419T075434
CREATED:20240220T171717Z
LAST-MODIFIED:20240723T201234Z
UID:3047-1707411600-1707426000@www.lucadenver.com
SUMMARY:Pizza Thursday
DESCRIPTION:All of our hand tossed\, wood-fired pies are 2 bucks off from open ‘til close!
URL:https://www.lucadenver.com/event/pizza-thursday-9/
LOCATION:Luca\, 711 Grant Street\, Denver\, CO\, 80203\, United States
CATEGORIES:Luca
ATTACH;FMTTYPE=image/jpeg:https://www.lucadenver.com/wp-content/uploads/2023/07/Elfsight-Calendar-Images-24-.jpg
END:VEVENT
BEGIN:VEVENT
DTSTART;TZID=America/Denver:20240208T170000
DTEND;TZID=America/Denver:20240208T210000
DTSTAMP:20260419T075434
CREATED:20240220T171717Z
LAST-MODIFIED:20240723T201234Z
UID:3047-1707411600-1707426000@www.lucadenver.com
SUMMARY:Pizza Thursday
DESCRIPTION:All of our hand tossed\, wood-fired pies are 2 bucks off from open ‘til close!
URL:https://www.lucadenver.com/event/pizza-thursday-9/
LOCATION:Luca\, 711 Grant Street\, Denver\, CO\, 80203\, United States
CATEGORIES:Luca
ATTACH;FMTTYPE=image/jpeg:https://www.lucadenver.com/wp-content/uploads/2023/07/Elfsight-Calendar-Images-24-.jpg
END:VEVENT
BEGIN:VEVENT
DTSTART;TZID=America/Denver:20240321T170000
DTEND;TZID=America/Denver:20240321T170000
DTSTAMP:20260419T075434
CREATED:20240227T233728Z
LAST-MODIFIED:20240318T235458Z
UID:3092-1711040400-1711040400@www.lucadenver.com
SUMMARY:Luca's Smokin'
DESCRIPTION:For the second night in our series of culinary playdates\, we’ve developed a smoking habit! This Italian/American BBQ mashup pairs rustic Italian with smoky\, flame-kissed flavors. Wine & whiskey abound at this fun fusion feast. Plus\, snag a limited edition\, personally engraved bottle of Knob Creek bourbon!\n\nView the menu and make your reservation here! Please note this is the only menu available this evening.
URL:https://www.lucadenver.com/event/lucas-smokin/
LOCATION:Luca\, 711 Grant Street\, Denver\, CO\, 80203\, United States
CATEGORIES:Luca
ATTACH;FMTTYPE=image/png:https://www.lucadenver.com/wp-content/uploads/2024/02/March-21-Lucas-Smokin.png
END:VEVENT
END:VCALENDAR